BEGIN:VCALENDAR
VERSION:2.0
PRODID:-//Bananas Inc. - ECPv6.15.20//NONSGML v1.0//EN
CALSCALE:GREGORIAN
METHOD:PUBLISH
X-WR-CALNAME:Bananas Inc.
X-ORIGINAL-URL:https://bananasbunch.org
X-WR-CALDESC:Events for Bananas Inc.
REFRESH-INTERVAL;VALUE=DURATION:PT1H
X-Robots-Tag:noindex
X-PUBLISHED-TTL:PT1H
BEGIN:VTIMEZONE
TZID:America/Los_Angeles
BEGIN:DAYLIGHT
TZOFFSETFROM:-0800
TZOFFSETTO:-0700
TZNAME:PDT
DTSTART:20250309T100000
END:DAYLIGHT
BEGIN:STANDARD
TZOFFSETFROM:-0700
TZOFFSETTO:-0800
TZNAME:PST
DTSTART:20251102T090000
END:STANDARD
BEGIN:DAYLIGHT
TZOFFSETFROM:-0800
TZOFFSETTO:-0700
TZNAME:PDT
DTSTART:20260308T100000
END:DAYLIGHT
BEGIN:STANDARD
TZOFFSETFROM:-0700
TZOFFSETTO:-0800
TZNAME:PST
DTSTART:20261101T090000
END:STANDARD
BEGIN:DAYLIGHT
TZOFFSETFROM:-0800
TZOFFSETTO:-0700
TZNAME:PDT
DTSTART:20270314T100000
END:DAYLIGHT
BEGIN:STANDARD
TZOFFSETFROM:-0700
TZOFFSETTO:-0800
TZNAME:PST
DTSTART:20271107T090000
END:STANDARD
END:VTIMEZONE
BEGIN:VEVENT
DTSTART;TZID=America/Los_Angeles:20260420T183000
DTEND;TZID=America/Los_Angeles:20260420T203000
DTSTAMP:20260424T011420
CREATED:20260305T235548Z
LAST-MODIFIED:20260305T235548Z
UID:10003329-1776709800-1776717000@bananasbunch.org
SUMMARY:Emergency and Natural Disaster Preparedness
DESCRIPTION:This workshop equips child care educators with the knowledge and practical tools needed to prepare for\, respond to\, and recover from emergencies and natural disasters. Participants will review regulatory requirements and best practices related to emergency planning\, evacuation procedures\, lockdowns\, severe weather events\, power outages\, and other unexpected situations. \nThe session will explore how to develop and implement effective emergency policies\, conduct drills\, maintain communication with families\, and ensure the safety and well-being of children and staff during high-stress events. 
URL:https://bananasbunch.org/event/emergency-and-natural-disaster-preparedness/
LOCATION:Zoom
CATEGORIES:Child Care Provider Workshops
END:VEVENT
END:VCALENDAR